BEGIN:VCALENDAR
VERSION:2.0
PRODID:-//Co Creative Center New Bedford - ECPv6.15.17//NONSGML v1.0//EN
CALSCALE:GREGORIAN
METHOD:PUBLISH
X-ORIGINAL-URL:https://cocreativenb.org
X-WR-CALDESC:Events for Co Creative Center New Bedford
REFRESH-INTERVAL;VALUE=DURATION:PT1H
X-Robots-Tag:noindex
X-PUBLISHED-TTL:PT1H
BEGIN:VTIMEZONE
TZID:America/New_York
BEGIN:DAYLIGHT
TZOFFSETFROM:-0500
TZOFFSETTO:-0400
TZNAME:EDT
DTSTART:20190310T070000
END:DAYLIGHT
BEGIN:STANDARD
TZOFFSETFROM:-0400
TZOFFSETTO:-0500
TZNAME:EST
DTSTART:20191103T060000
END:STANDARD
BEGIN:DAYLIGHT
TZOFFSETFROM:-0500
TZOFFSETTO:-0400
TZNAME:EDT
DTSTART:20200308T070000
END:DAYLIGHT
BEGIN:STANDARD
TZOFFSETFROM:-0400
TZOFFSETTO:-0500
TZNAME:EST
DTSTART:20201101T060000
END:STANDARD
BEGIN:DAYLIGHT
TZOFFSETFROM:-0500
TZOFFSETTO:-0400
TZNAME:EDT
DTSTART:20210314T070000
END:DAYLIGHT
BEGIN:STANDARD
TZOFFSETFROM:-0400
TZOFFSETTO:-0500
TZNAME:EST
DTSTART:20211107T060000
END:STANDARD
END:VTIMEZONE
BEGIN:VEVENT
DTSTART;TZID=America/New_York:20201202T110000
DTEND;TZID=America/New_York:20201202T120000
DTSTAMP:20260423T051429
CREATED:20201125T063322Z
LAST-MODIFIED:20211110T193015Z
UID:10000842-1606906800-1606910400@cocreativenb.org
SUMMARY:PPP and EIDL Loan Q&A
DESCRIPTION:In collaboration with the Massachusetts Small Business Development the Co-Creative Center has set up a Q&A session specifically for creatives and small business owners to have a conversation in regards to the PPP and EIDL Loans. \n\n\n\n\n\n\n\n\n\n\n\n\n\n\n\nRegister Here
URL:https://cocreativenb.org/event/ppp-and-eidl-loan-qa/
LOCATION:CoCreative Center Virtual Events
CATEGORIES:Free Events,Virtual Events
ATTACH;FMTTYPE=image/jpeg:https://cocreativenb.org/wp/wp-content/uploads/2020/11/Loan-QandAPoster.jpg
END:VEVENT
BEGIN:VEVENT
DTSTART;TZID=America/New_York:20201120T133000
DTEND;TZID=America/New_York:20201120T150000
DTSTAMP:20260423T051429
CREATED:20201030T192942Z
LAST-MODIFIED:20211110T193015Z
UID:10000840-1605879000-1605884400@cocreativenb.org
SUMMARY:Jazz it up!
DESCRIPTION:Choose a new medium\, choose a new project\, choose what’s NEXT! \n\n\n\nDo you get stuck choosing? Join Jazz It Up – and explore your creativity virtually! You will have the opportunity to work through creative challenges with the help of group efforts and input. Keep your creative process alive! \n\n\n\n\n\n\nRegister Here\n\n\n\n\n\n\n\n\nORGANIZERS
URL:https://cocreativenb.org/event/jazz-it-up-2020/
LOCATION:CoCreative Center Virtual Events
CATEGORIES:Free Events,Virtual Events
ATTACH;FMTTYPE=image/png:https://cocreativenb.org/wp/wp-content/uploads/2020/10/jazzitupeventposter-1.png
END:VEVENT
BEGIN:VEVENT
DTSTART;TZID=America/New_York:20201110T140000
DTEND;TZID=America/New_York:20201110T153000
DTSTAMP:20260423T051429
CREATED:20201013T210541Z
LAST-MODIFIED:20211110T193015Z
UID:10000838-1605016800-1605022200@cocreativenb.org
SUMMARY:November Virtual Artists Share
DESCRIPTION:Join Artists Share! As a group we share and discuss our artwork\, getting new ideas and building an artist community on Zoom. We meet each month and always welcome new members!
URL:https://cocreativenb.org/event/nov2020-artists-share/
LOCATION:CoCreative Center Virtual Events
CATEGORIES:Free Events,Virtual Events
ATTACH;FMTTYPE=image/jpeg:https://cocreativenb.org/wp/wp-content/uploads/2020/10/artistsharenov2020.jpg
END:VEVENT
BEGIN:VEVENT
DTSTART;TZID=America/New_York:20201013T150000
DTEND;TZID=America/New_York:20201013T163000
DTSTAMP:20260423T051429
CREATED:20201007T001336Z
LAST-MODIFIED:20211110T193015Z
UID:10000837-1602601200-1602606600@cocreativenb.org
SUMMARY:October Virtual Artists Share
DESCRIPTION:Join Artists Share! As a group we share and discuss our artwork\, getting new ideas and building an artist community on Zoom. We meet each month and always welcome new members! \n\n\n\n\n\n\n\n \n\n\n\n\n\n\n\nOrganizers: \n\n\n\n\n\n\n\n\n\n\n\nVenue:
URL:https://cocreativenb.org/event/october-virtual-artists-share/
LOCATION:CoCreative Center Virtual Events
CATEGORIES:Free Events,Virtual Events
ATTACH;FMTTYPE=image/jpeg:https://cocreativenb.org/wp/wp-content/uploads/2020/10/6D027B1F-6E7A-43B3-B503-DDB8DCA6D79F.jpeg
END:VEVENT
END:VCALENDAR