BEGIN:VCALENDAR
VERSION:2.0
PRODID:-//Co Creative Center New Bedford - ECPv6.15.17//NONSGML v1.0//EN
CALSCALE:GREGORIAN
METHOD:PUBLISH
X-WR-CALNAME:Co Creative Center New Bedford
X-ORIGINAL-URL:https://cocreativenb.org
X-WR-CALDESC:Events for Co Creative Center New Bedford
REFRESH-INTERVAL;VALUE=DURATION:PT1H
X-Robots-Tag:noindex
X-PUBLISHED-TTL:PT1H
BEGIN:VTIMEZONE
TZID:America/New_York
BEGIN:DAYLIGHT
TZOFFSETFROM:-0500
TZOFFSETTO:-0400
TZNAME:EDT
DTSTART:20190310T070000
END:DAYLIGHT
BEGIN:STANDARD
TZOFFSETFROM:-0400
TZOFFSETTO:-0500
TZNAME:EST
DTSTART:20191103T060000
END:STANDARD
BEGIN:DAYLIGHT
TZOFFSETFROM:-0500
TZOFFSETTO:-0400
TZNAME:EDT
DTSTART:20200308T070000
END:DAYLIGHT
BEGIN:STANDARD
TZOFFSETFROM:-0400
TZOFFSETTO:-0500
TZNAME:EST
DTSTART:20201101T060000
END:STANDARD
BEGIN:DAYLIGHT
TZOFFSETFROM:-0500
TZOFFSETTO:-0400
TZNAME:EDT
DTSTART:20210314T070000
END:DAYLIGHT
BEGIN:STANDARD
TZOFFSETFROM:-0400
TZOFFSETTO:-0500
TZNAME:EST
DTSTART:20211107T060000
END:STANDARD
END:VTIMEZONE
BEGIN:VEVENT
DTSTART;TZID=America/New_York:20201202T110000
DTEND;TZID=America/New_York:20201202T120000
DTSTAMP:20260423T103054
CREATED:20201125T063322Z
LAST-MODIFIED:20211110T193015Z
UID:10000842-1606906800-1606910400@cocreativenb.org
SUMMARY:PPP and EIDL Loan Q&A
DESCRIPTION:In collaboration with the Massachusetts Small Business Development the Co-Creative Center has set up a Q&A session specifically for creatives and small business owners to have a conversation in regards to the PPP and EIDL Loans. \n\n\n\n\n\n\n\n\n\n\n\n\n\n\n\nRegister Here
URL:https://cocreativenb.org/event/ppp-and-eidl-loan-qa/
LOCATION:CoCreative Center Virtual Events
CATEGORIES:Free Events,Virtual Events
ATTACH;FMTTYPE=image/jpeg:https://cocreativenb.org/wp/wp-content/uploads/2020/11/Loan-QandAPoster.jpg
END:VEVENT
END:VCALENDAR