BEGIN:VCALENDAR
VERSION:2.0
PRODID:-//Co Creative Center New Bedford - ECPv6.15.17//NONSGML v1.0//EN
CALSCALE:GREGORIAN
METHOD:PUBLISH
X-WR-CALNAME:Co Creative Center New Bedford
X-ORIGINAL-URL:https://cocreativenb.org
X-WR-CALDESC:Events for Co Creative Center New Bedford
REFRESH-INTERVAL;VALUE=DURATION:PT1H
X-Robots-Tag:noindex
X-PUBLISHED-TTL:PT1H
BEGIN:VTIMEZONE
TZID:America/New_York
BEGIN:DAYLIGHT
TZOFFSETFROM:-0500
TZOFFSETTO:-0400
TZNAME:EDT
DTSTART:20200308T070000
END:DAYLIGHT
BEGIN:STANDARD
TZOFFSETFROM:-0400
TZOFFSETTO:-0500
TZNAME:EST
DTSTART:20201101T060000
END:STANDARD
BEGIN:DAYLIGHT
TZOFFSETFROM:-0500
TZOFFSETTO:-0400
TZNAME:EDT
DTSTART:20210314T070000
END:DAYLIGHT
BEGIN:STANDARD
TZOFFSETFROM:-0400
TZOFFSETTO:-0500
TZNAME:EST
DTSTART:20211107T060000
END:STANDARD
BEGIN:DAYLIGHT
TZOFFSETFROM:-0500
TZOFFSETTO:-0400
TZNAME:EDT
DTSTART:20220313T070000
END:DAYLIGHT
BEGIN:STANDARD
TZOFFSETFROM:-0400
TZOFFSETTO:-0500
TZNAME:EST
DTSTART:20221106T060000
END:STANDARD
BEGIN:DAYLIGHT
TZOFFSETFROM:-0500
TZOFFSETTO:-0400
TZNAME:EDT
DTSTART:20230312T070000
END:DAYLIGHT
BEGIN:STANDARD
TZOFFSETFROM:-0400
TZOFFSETTO:-0500
TZNAME:EST
DTSTART:20231105T060000
END:STANDARD
END:VTIMEZONE
BEGIN:VEVENT
DTSTART;TZID=America/New_York:20220414T190000
DTEND;TZID=America/New_York:20220414T210000
DTSTAMP:20260423T180639
CREATED:20220315T164725Z
LAST-MODIFIED:20230911T142934Z
UID:10000922-1649962800-1649970000@cocreativenb.org
SUMMARY:Anomaly Poetry Open Mic Night
DESCRIPTION:We are back! Live and in person again for our Open Mic nights with Anomaly Poetry during AHA New Bedford.
URL:https://cocreativenb.org/event/anomaly-poetry-open-mic/2022-04-14/
LOCATION:CoCreative Center Gallery\, 137 Union Street\, New Bedford\, MA\, 02740\, United States
CATEGORIES:Free Events
ATTACH;FMTTYPE=image/jpeg:https://cocreativenb.org/wp/wp-content/uploads/2022/03/screenshot_20220228-132720_instagram.jpeg
END:VEVENT
BEGIN:VEVENT
DTSTART;TZID=America/New_York:20220411T180000
DTEND;TZID=America/New_York:20220411T200000
DTSTAMP:20260423T180639
CREATED:20220315T200912Z
LAST-MODIFIED:20220914T182158Z
UID:10000934-1649700000-1649707200@cocreativenb.org
SUMMARY:Figure Drawing at Co-Creative
DESCRIPTION:Practice building your drawing skills from a live model over the next few months – hosted by member artist Kat Knutsen. \n\n\n\nBring your own drawing supplies.
URL:https://cocreativenb.org/event/figure-drawing-at-co-creative/2022-04-11/
LOCATION:CoCreative Center Gallery\, 137 Union Street\, New Bedford\, MA\, 02740\, United States
CATEGORIES:Classes
ATTACH;FMTTYPE=image/jpeg:https://cocreativenb.org/wp/wp-content/uploads/2022/03/Figure-drawing-at-cocreativeSQ.jpg
END:VEVENT
BEGIN:VEVENT
DTSTART;TZID=America/New_York:20220407T140000
DTEND;TZID=America/New_York:20220407T170000
DTSTAMP:20260423T180639
CREATED:20230222T171509Z
LAST-MODIFIED:20230222T171509Z
UID:10000891-1649340000-1649350800@cocreativenb.org
SUMMARY:Clarity Through Collage Club
DESCRIPTION:In person Collage Workshop let by Melanie McMullin – Masks are required for all. \n\n\n\nThe 1st & 3rd Thursday of each month we will gather around an evolving altar\, \n\n\n\nCreate an individual intuitive art piece\, then explore and receive insights through different Oracle and Tarot decks led by Co-Creative member\, Melanie McMullin. \n\n\n\n\n\n\n\n\n\n\n\nDoors open at 5:45 pm. All materials are provided. This is a free event open to the public\, registration is required.  Please RSVP below. Questions please contact Melanie at melbamcmullin@comcast.net or www.melaniemcmullin.com \n\n\n\n\n\n\nRSVP Here
URL:https://cocreativenb.org/event/clarity-through-collage-club/2022-04-07/
LOCATION:CoCreative Center Gallery\, 137 Union Street\, New Bedford\, MA\, 02740\, United States
CATEGORIES:Free Events
ATTACH;FMTTYPE=image/jpeg:https://cocreativenb.org/wp/wp-content/uploads/2022/01/claritythumb.jpg
END:VEVENT
BEGIN:VEVENT
DTSTART;TZID=America/New_York:20220317T140000
DTEND;TZID=America/New_York:20220317T170000
DTSTAMP:20260423T180639
CREATED:20220120T013835Z
LAST-MODIFIED:20220406T201439Z
UID:10000882-1647525600-1647536400@cocreativenb.org
SUMMARY:Clarity Through Collage Club
DESCRIPTION:In person Collage Workshop let by Melanie McMullin – Masks are required for all. \n\n\n\nThe 1st & 3rd Thursday of each month we will gather around an evolving altar\, \n\n\n\nCreate an individual intuitive art piece\, then explore and receive insights through different Oracle and Tarot decks led by Co-Creative member\, Melanie McMullin. \n\n\n\n\n\n\n\n\n\n\n\nDoors open at 5:45 pm. All materials are provided. This is a free event open to the public\, registration is required.  Please RSVP below. Questions please contact Melanie at melbamcmullin@comcast.net or www.melaniemcmullin.com \n\n\n\n\n\n\nRSVP Here
URL:https://cocreativenb.org/event/clarity-through-collage-club/2022-03-17/
LOCATION:CoCreative Center Gallery\, 137 Union Street\, New Bedford\, MA\, 02740\, United States
CATEGORIES:Free Events
ATTACH;FMTTYPE=image/jpeg:https://cocreativenb.org/wp/wp-content/uploads/2022/01/claritythumb.jpg
END:VEVENT
BEGIN:VEVENT
DTSTART;TZID=America/New_York:20220303T130000
DTEND;TZID=America/New_York:20220303T160000
DTSTAMP:20260423T180639
CREATED:20230222T171509Z
LAST-MODIFIED:20230222T171509Z
UID:10000890-1646312400-1646323200@cocreativenb.org
SUMMARY:Clarity Through Collage Club
DESCRIPTION:In person Collage Workshop let by Melanie McMullin – Masks are required for all. \n\n\n\nThe 1st & 3rd Thursday of each month we will gather around an evolving altar\, \n\n\n\nCreate an individual intuitive art piece\, then explore and receive insights through different Oracle and Tarot decks led by Co-Creative member\, Melanie McMullin. \n\n\n\n\n\n\n\n\n\n\n\nDoors open at 5:45 pm. All materials are provided. This is a free event open to the public\, registration is required.  Please RSVP below. Questions please contact Melanie at melbamcmullin@comcast.net or www.melaniemcmullin.com \n\n\n\n\n\n\nRSVP Here
URL:https://cocreativenb.org/event/clarity-through-collage-club/2022-03-03/
LOCATION:CoCreative Center Gallery\, 137 Union Street\, New Bedford\, MA\, 02740\, United States
CATEGORIES:Free Events
ATTACH;FMTTYPE=image/jpeg:https://cocreativenb.org/wp/wp-content/uploads/2022/01/claritythumb.jpg
END:VEVENT
BEGIN:VEVENT
DTSTART;TZID=America/New_York:20220217T130000
DTEND;TZID=America/New_York:20220217T160000
DTSTAMP:20260423T180639
CREATED:20220120T013835Z
LAST-MODIFIED:20220406T201439Z
UID:10000881-1645102800-1645113600@cocreativenb.org
SUMMARY:Clarity Through Collage Club
DESCRIPTION:In person Collage Workshop let by Melanie McMullin – Masks are required for all. \n\n\n\nThe 1st & 3rd Thursday of each month we will gather around an evolving altar\, \n\n\n\nCreate an individual intuitive art piece\, then explore and receive insights through different Oracle and Tarot decks led by Co-Creative member\, Melanie McMullin. \n\n\n\n\n\n\n\n\n\n\n\nDoors open at 5:45 pm. All materials are provided. This is a free event open to the public\, registration is required.  Please RSVP below. Questions please contact Melanie at melbamcmullin@comcast.net or www.melaniemcmullin.com \n\n\n\n\n\n\nRSVP Here
URL:https://cocreativenb.org/event/clarity-through-collage-club/2022-02-17/
LOCATION:CoCreative Center Gallery\, 137 Union Street\, New Bedford\, MA\, 02740\, United States
CATEGORIES:Free Events
ATTACH;FMTTYPE=image/jpeg:https://cocreativenb.org/wp/wp-content/uploads/2022/01/claritythumb.jpg
END:VEVENT
BEGIN:VEVENT
DTSTART;TZID=America/New_York:20220203T130000
DTEND;TZID=America/New_York:20220203T160000
DTSTAMP:20260423T180639
CREATED:20230222T171509Z
LAST-MODIFIED:20230222T171509Z
UID:10000889-1643893200-1643904000@cocreativenb.org
SUMMARY:Clarity Through Collage Club
DESCRIPTION:In person Collage Workshop let by Melanie McMullin – Masks are required for all. \n\n\n\nThe 1st & 3rd Thursday of each month we will gather around an evolving altar\, \n\n\n\nCreate an individual intuitive art piece\, then explore and receive insights through different Oracle and Tarot decks led by Co-Creative member\, Melanie McMullin. \n\n\n\n\n\n\n\n\n\n\n\nDoors open at 5:45 pm. All materials are provided. This is a free event open to the public\, registration is required.  Please RSVP below. Questions please contact Melanie at melbamcmullin@comcast.net or www.melaniemcmullin.com \n\n\n\n\n\n\nRSVP Here
URL:https://cocreativenb.org/event/clarity-through-collage-club/2022-02-03/
LOCATION:CoCreative Center Gallery\, 137 Union Street\, New Bedford\, MA\, 02740\, United States
CATEGORIES:Free Events
ATTACH;FMTTYPE=image/jpeg:https://cocreativenb.org/wp/wp-content/uploads/2022/01/claritythumb.jpg
END:VEVENT
BEGIN:VEVENT
DTSTART;TZID=America/New_York:20220120T130000
DTEND;TZID=America/New_York:20220120T160000
DTSTAMP:20260423T180639
CREATED:20220120T013835Z
LAST-MODIFIED:20220406T201439Z
UID:10000880-1642683600-1642694400@cocreativenb.org
SUMMARY:Clarity Through Collage Club
DESCRIPTION:In person Collage Workshop let by Melanie McMullin – Masks are required for all. \n\n\n\nThe 1st & 3rd Thursday of each month we will gather around an evolving altar\, \n\n\n\nCreate an individual intuitive art piece\, then explore and receive insights through different Oracle and Tarot decks led by Co-Creative member\, Melanie McMullin. \n\n\n\n\n\n\n\n\n\n\n\nDoors open at 5:45 pm. All materials are provided. This is a free event open to the public\, registration is required.  Please RSVP below. Questions please contact Melanie at melbamcmullin@comcast.net or www.melaniemcmullin.com \n\n\n\n\n\n\nRSVP Here
URL:https://cocreativenb.org/event/clarity-through-collage-club/2022-01-20/
LOCATION:CoCreative Center Gallery\, 137 Union Street\, New Bedford\, MA\, 02740\, United States
CATEGORIES:Free Events
ATTACH;FMTTYPE=image/jpeg:https://cocreativenb.org/wp/wp-content/uploads/2022/01/claritythumb.jpg
END:VEVENT
BEGIN:VEVENT
DTSTART;TZID=America/New_York:20211208T030000
DTEND;TZID=America/New_York:20220131T120000
DTSTAMP:20260423T180639
CREATED:20211124T005814Z
LAST-MODIFIED:20220315T205415Z
UID:10000879-1638932400-1643630400@cocreativenb.org
SUMMARY:Co Creative Center Members Show
DESCRIPTION:Members Gallery Exhibition \n\n\n\nJoin us for an action packed\, art loving event with MANY multi disciplinary artists & pieces shown.  \n\n\n\nMany are these works are created right in house and within the community! Meet the artists & enjoy the viewing alongside others bringing cheer to the Holiday Season! \n\n\n\nThe event is free & open to the general public
URL:https://cocreativenb.org/event/co-creative-center-members-show/
LOCATION:CoCreative Center Gallery\, 137 Union Street\, New Bedford\, MA\, 02740\, United States
CATEGORIES:Free Events
ATTACH;FMTTYPE=image/jpeg:https://cocreativenb.org/wp/wp-content/uploads/2021/11/Members-Show-thumb2.jpg
END:VEVENT
BEGIN:VEVENT
DTSTART;TZID=America/New_York:20211205T070000
DTEND;TZID=America/New_York:20211205T120000
DTSTAMP:20260423T180639
CREATED:20211123T223437Z
LAST-MODIFIED:20220315T205415Z
UID:10000876-1638687600-1638705600@cocreativenb.org
SUMMARY:Holiday Market Members Pop Up
DESCRIPTION:Join us for the Members Market & Holiday Stroll! \n\n\n\nHighlights include:A roving Santa Claus\, festive drag queen\, and Winter FairyAntique Fire Truck RidesBuy Black NB Mini MarketNBPAC Dancers at The Whaling Museum PlazaSouthcoast Brass Band \n\n\n\nMultiple locations around New Bedford hosting kids’ holiday craftsAND MUCH MORE!
URL:https://cocreativenb.org/event/holiday-market-members-pop-up/
LOCATION:CoCreative Center Gallery\, 137 Union Street\, New Bedford\, MA\, 02740\, United States
CATEGORIES:Free Events
ATTACH;FMTTYPE=image/jpeg:https://cocreativenb.org/wp/wp-content/uploads/2021/11/stroll-square-thumb.jpg
END:VEVENT
BEGIN:VEVENT
DTSTART;TZID=America/New_York:20211203T120000
DTEND;TZID=America/New_York:20211203T150000
DTSTAMP:20260423T180639
CREATED:20211123T220402Z
LAST-MODIFIED:20220315T205415Z
UID:10000875-1638532800-1638543600@cocreativenb.org
SUMMARY:Iva Brito: Closing Reception
DESCRIPTION:Artist Meet & Greet: Come join us for the closing reception of the month long gallery showing for Iva Brito.  \n\n\n\nEnjoy good vibes and flow with my art and corresponding poetry that will be showcased. The showing explores the relationship between poetry and imagery. It consists of paintings inspired by my poetry in my book Essence\, Tones\, Whispers\, and Shouts. \n\n\n\nLive music by Zerui & Candida Rose \n\n\n\n\n\n\n\n\n\n\n\n\n\n\nRegister Free
URL:https://cocreativenb.org/event/iva-brito-closing-reception/
LOCATION:CoCreative Center Gallery\, 137 Union Street\, New Bedford\, MA\, 02740\, United States
CATEGORIES:Free Events
ATTACH;FMTTYPE=image/jpeg:https://cocreativenb.org/wp/wp-content/uploads/2021/11/IvaBritoCelloWoman.jpg
END:VEVENT
BEGIN:VEVENT
DTSTART;TZID=America/New_York:20211201T140000
DTEND;TZID=America/New_York:20211201T160000
DTSTAMP:20260423T180639
CREATED:20211020T021758Z
LAST-MODIFIED:20211110T193014Z
UID:10000866-1638367200-1638374400@cocreativenb.org
SUMMARY:The Listening Hour
DESCRIPTION:The Listening Hour 10/20 Mark Russell\, Violinist / Composer 11/3 – 7pm Jasson Smith\, Gypsi Guitarist / Singer Songwriter 11/17 – 7pm Jeff Angeley\, Old Time Fiddle 12/1- 7pm Joanne Doherty\, guitar \n\n\n\nSponsored by Beatriz & Company\, The Listening Hour is every other Wednesday at the Co-Creative.  \n\n\n\nDoors open at 6:30pm and performances start promptly at 7:00pm.  \n\n\n\nThis is a free event open to Co-Creative Members and the general public\, with limited capacity.  RSVP is required. Please observe all CDC guidelines on COVID precautions and wear a mask.  \n\n\n\n\n\n\n\n\n\n\n\n\n\n\nRSVP here
URL:https://cocreativenb.org/event/the-listening-hour/2021-12-01/
LOCATION:CoCreative Center Gallery\, 137 Union Street\, New Bedford\, MA\, 02740\, United States
CATEGORIES:Free Events
ATTACH;FMTTYPE=image/jpeg:https://cocreativenb.org/wp/wp-content/uploads/2021/10/ListeningHourThumb.jpg
END:VEVENT
BEGIN:VEVENT
DTSTART;TZID=America/New_York:20211117T140000
DTEND;TZID=America/New_York:20211117T160000
DTSTAMP:20260423T180639
CREATED:20211020T021758Z
LAST-MODIFIED:20211110T193014Z
UID:10000865-1637157600-1637164800@cocreativenb.org
SUMMARY:The Listening Hour
DESCRIPTION:The Listening Hour 10/20 Mark Russell\, Violinist / Composer 11/3 – 7pm Jasson Smith\, Gypsi Guitarist / Singer Songwriter 11/17 – 7pm Jeff Angeley\, Old Time Fiddle 12/1- 7pm Joanne Doherty\, guitar \n\n\n\nSponsored by Beatriz & Company\, The Listening Hour is every other Wednesday at the Co-Creative.  \n\n\n\nDoors open at 6:30pm and performances start promptly at 7:00pm.  \n\n\n\nThis is a free event open to Co-Creative Members and the general public\, with limited capacity.  RSVP is required. Please observe all CDC guidelines on COVID precautions and wear a mask.  \n\n\n\n\n\n\n\n\n\n\n\n\n\n\nRSVP here
URL:https://cocreativenb.org/event/the-listening-hour/2021-11-17/
LOCATION:CoCreative Center Gallery\, 137 Union Street\, New Bedford\, MA\, 02740\, United States
CATEGORIES:Free Events
ATTACH;FMTTYPE=image/jpeg:https://cocreativenb.org/wp/wp-content/uploads/2021/10/ListeningHourThumb.jpg
END:VEVENT
BEGIN:VEVENT
DTSTART;TZID=America/New_York:20211103T150000
DTEND;TZID=America/New_York:20211103T170000
DTSTAMP:20260423T180639
CREATED:20211020T021758Z
LAST-MODIFIED:20211110T193014Z
UID:10000864-1635951600-1635958800@cocreativenb.org
SUMMARY:The Listening Hour
DESCRIPTION:The Listening Hour 10/20 Mark Russell\, Violinist / Composer 11/3 – 7pm Jasson Smith\, Gypsi Guitarist / Singer Songwriter 11/17 – 7pm Jeff Angeley\, Old Time Fiddle 12/1- 7pm Joanne Doherty\, guitar \n\n\n\nSponsored by Beatriz & Company\, The Listening Hour is every other Wednesday at the Co-Creative.  \n\n\n\nDoors open at 6:30pm and performances start promptly at 7:00pm.  \n\n\n\nThis is a free event open to Co-Creative Members and the general public\, with limited capacity.  RSVP is required. Please observe all CDC guidelines on COVID precautions and wear a mask.  \n\n\n\n\n\n\n\n\n\n\n\n\n\n\nRSVP here
URL:https://cocreativenb.org/event/the-listening-hour/2021-11-03/
LOCATION:CoCreative Center Gallery\, 137 Union Street\, New Bedford\, MA\, 02740\, United States
CATEGORIES:Free Events
ATTACH;FMTTYPE=image/jpeg:https://cocreativenb.org/wp/wp-content/uploads/2021/10/ListeningHourThumb.jpg
END:VEVENT
BEGIN:VEVENT
DTSTART;TZID=America/New_York:20211101T060000
DTEND;TZID=America/New_York:20211130T120000
DTSTAMP:20260423T180639
CREATED:20211015T172539Z
LAST-MODIFIED:20211110T193014Z
UID:10000862-1635746400-1638273600@cocreativenb.org
SUMMARY:Iva Brito
DESCRIPTION:Paintings inspired by Iva Brito’s book of poetry Essence\, Tones\, Whispers\, and Shouts \n\n\n\n\n\nA licensed social worker\, Iva holds a Master’s of Science degree from UMASS – Boston. She also completed her advanced graduate studies in Expressive Arts in Holistic Counseling at Salve Regina University.   An award-winning author\, artist\, and poet\, she is the recipient of several distinguished leadership awards. \n\n\n\nIva understands and lives with the knowledge that our humanity is our birthright and healing is our process.  \n\n\n\nHer indigenous roots are from her native land of Cabo Verde\, West Africa. Performing and speaking throughout the country\, she shares her culturally diverse heritage through a wellspring of love. \n\n\n\nIva serves as a commissioner on the Massachusetts Commission on the Status of Women and served as the inaugural Director of Bristol Community College Women’s Center.   \n\n\n\nIva’s multifaceted experiences led her to launch Iva Brito Consultancy (IBC Inc.). Iva Brito Consultancy is on a mission to advance indigenous women throughout the world. It is committed and dedicated to fostering the healing of women from the detrimental effects of colonialism and moving people forward globally.
URL:https://cocreativenb.org/event/iva-brito/
LOCATION:CoCreative Center Gallery\, 137 Union Street\, New Bedford\, MA\, 02740\, United States
CATEGORIES:Free Events
ATTACH;FMTTYPE=image/jpeg:https://cocreativenb.org/wp/wp-content/uploads/2021/10/ivabritothumb.jpg
END:VEVENT
BEGIN:VEVENT
DTSTART;TZID=America/New_York:20211025T200000
DTEND;TZID=America/New_York:20211027T195959
DTSTAMP:20260423T180639
CREATED:20211014T173305Z
LAST-MODIFIED:20211110T193014Z
UID:10000861-1635192000-1635364799@cocreativenb.org
SUMMARY:Connect\, Create\, Reflect
DESCRIPTION:Womens workshop series \n\n\n\n\n\n \n\n\n\n\n\nOctober 26 & 27\, 5:30 – 8pmA womens workshop series geared to support connectivity\, expression and creativity led by local artists and co-Creative members Kat Knutsen and Melanie McMullin \n\n\n\nFree event\, registration required. \n\n\n\n\n\n\n\n\n\n\n\n\n\n\nRegister here
URL:https://cocreativenb.org/event/connect-create-reflect/
LOCATION:CoCreative Center Gallery\, 137 Union Street\, New Bedford\, MA\, 02740\, United States
CATEGORIES:Free Events
ATTACH;FMTTYPE=image/png:https://cocreativenb.org/wp/wp-content/uploads/2021/10/wmnswrksp1.png
END:VEVENT
BEGIN:VEVENT
DTSTART;TZID=America/New_York:20211020T150000
DTEND;TZID=America/New_York:20211020T170000
DTSTAMP:20260423T180639
CREATED:20211020T021758Z
LAST-MODIFIED:20211110T193014Z
UID:10000863-1634742000-1634749200@cocreativenb.org
SUMMARY:The Listening Hour
DESCRIPTION:The Listening Hour 10/20 Mark Russell\, Violinist / Composer 11/3 – 7pm Jasson Smith\, Gypsi Guitarist / Singer Songwriter 11/17 – 7pm Jeff Angeley\, Old Time Fiddle 12/1- 7pm Joanne Doherty\, guitar \n\n\n\nSponsored by Beatriz & Company\, The Listening Hour is every other Wednesday at the Co-Creative.  \n\n\n\nDoors open at 6:30pm and performances start promptly at 7:00pm.  \n\n\n\nThis is a free event open to Co-Creative Members and the general public\, with limited capacity.  RSVP is required. Please observe all CDC guidelines on COVID precautions and wear a mask.  \n\n\n\n\n\n\n\n\n\n\n\n\n\n\nRSVP here
URL:https://cocreativenb.org/event/the-listening-hour/2021-10-20/
LOCATION:CoCreative Center Gallery\, 137 Union Street\, New Bedford\, MA\, 02740\, United States
CATEGORIES:Free Events
ATTACH;FMTTYPE=image/jpeg:https://cocreativenb.org/wp/wp-content/uploads/2021/10/ListeningHourThumb.jpg
END:VEVENT
BEGIN:VEVENT
DTSTART;TZID=America/New_York:20210909T140000
DTEND;TZID=America/New_York:20210909T170000
DTSTAMP:20260423T180639
CREATED:20210823T173123Z
LAST-MODIFIED:20211110T193014Z
UID:10000858-1631196000-1631206800@cocreativenb.org
SUMMARY:WEIRDOS - New Paintings by Phillip J. Mellen
DESCRIPTION:WEIRDOS New Paintings by Phillip J. Mellen \n\n\n\nOpening reception Thursday Sept. 9th 6-9pm aha! \n\n\n\nPlease join us to celebrate the exhibition WEIRDOS\, A solo exhibition by Taunton artist\, Phillip Mellen. A series of new paintings.  \n\n\n\n\n\n\n\n\n\n\n\n\n\n\nRSVP here!\n\n\n\n\n\n\n\n\n\n\n\n\nPhillip J. Mellen b. 1976 lives and works in Taunton\, MA. Received his Certificate in Painting from the Pennsylvania Academy of the Fine Arts in Philadelphia\, PA. Has exhibited both nationally and internationally where he is also part of numerous private collections. \n\n\n\nwww.phillipjmellen.com
URL:https://cocreativenb.org/event/weirdos-new-paintings-by-phillip-j-mellen/
LOCATION:CoCreative Center Gallery\, 137 Union Street\, New Bedford\, MA\, 02740\, United States
CATEGORIES:Free Events
ATTACH;FMTTYPE=image/jpeg:https://cocreativenb.org/wp/wp-content/uploads/2021/08/Twilight-Weirdosm.jpg
END:VEVENT
BEGIN:VEVENT
DTSTART;TZID=America/New_York:20210513T130000
DTEND;TZID=America/New_York:20210513T160000
DTSTAMP:20260423T180639
CREATED:20210508T233855Z
LAST-MODIFIED:20211110T193015Z
UID:10000849-1620910800-1620921600@cocreativenb.org
SUMMARY:Micro Macro
DESCRIPTION:This is an in-person\, masked event\, limit of 4 people inside the gallery at a time with outdoor reception. \n\n\n\n\n\nPlease join us to celebrate the exhibition Micro Macro\, A solo exhibition by New Bedford artist\, Kat Knutsen. A series of paintings and multi disciplinary works. \n\n\n\n\n\n\n\n\n\n\n\nExhibition on display May 13 – June 30.
URL:https://cocreativenb.org/event/micro-macro/
LOCATION:CoCreative Center Gallery\, 137 Union Street\, New Bedford\, MA\, 02740\, United States
ATTACH;FMTTYPE=image/jpeg:https://cocreativenb.org/wp/wp-content/uploads/2021/05/MicroMacro-flyer-thumb.jpg
END:VEVENT
END:VCALENDAR